Workbook

Sheet HK1
A1: STT | B1: Mã nhân sự | C1: Đơn vị | D1: HỌ VÀ TÊN GIẢNG VIÊN | E1: ĐỀ THI | J1: COI THI | O1: CHẤM THI KTHP | W1: CHẤM THI TỐT NGHIỆP | AF1: DỰ PHÒNG KỲ THI | AG1: GIÁM SÁT | AH1: TỔNG KHỐI LƯỢNG | AI1: =SUBTOTAL(9,AH:AH) -> 753.25
O2: LÝ THUYẾT | S2: TIỂU LUẬN | W2: LÝ THUYẾT | Z2: T.HÀNH CHUNG | AC2: T.HÀNH RIÊNG
E3: SL ĐỀ LT KTHP | F3: SL ĐỀ TN KTHP | G3: SL ĐỀ LT TN | H3: SL ĐỀ TH TN | I3: KL SOẠN ĐỀ (tiết) | J3: KTHPLT COITHI 1 | K3: KTHPLT COITHI 2 | L3: ThiTN COITHI 1 | M3: ThiTN COITHI 2 | N3: KL COITHI (tiết) | O3: SL BÀI LT CHẤM 1 | P3: SL BÀI LT CHẤM 2 | Q3: SL CHẤM LT NGHĨA VỤ | R3: KL CHẤM LT (tiết) | S3: SL BÀI TL CHẤM 1 | T3: SL BÀI TL CHẤM 2 | U3: SL CHẤM TL NGHĨA VỤ | V3: KL CHẤM TL (tiết) | W3: SL BÀI LT CHẤM 1 | X3: SL BÀI LT CHẤM 2 | Y3: KL CHẤM LT (tiết) | Z3: SL BÀI TL CHẤM 1 | AA3: SL BÀI TL CHẤM 2 | AB3: KL CHẤM TL (tiết) | AC3: SL BÀI TL CHẤM 1 | AD3: SL BÀI TL CHẤM 2 | AE3: KL CHẤM TL (tiết)
A4: =IF(D4="","",SUBTOTAL(3,$D$4:$D4)) -> 1 | B4: 01001006 | C4: Ban Giám hiệu | D4: Đinh Văn Đệ | E4: 0 | F4: 0 | G4: 0 | H4: 0 | I4: =IF(D4="","",(E4+F4*2+G4*3+H4*2)) -> 0 | J4: 0 | K4: 0 | L4: 0 | M4: 0 | N4: =IF(D4="","",SUM(J4:M4)) -> 0 | O4: 0 | P4: 0 | Q4: 187 | R4: =IF(D4="","",(SUM(O4:P4)-Q4)/20) -> -9.35 | S4: 0 | T4: 0 | U4: 0 | V4: =IF(D4="","",(SUM(S4:T4)-U4)/10) -> 0 | W4: 0 | X4: 0 | Y4: =IF($D4="","",SUM(W4:X4)/20) -> 0 | Z4: 0 | AA4: 0 | AB4: =IF($D4="","",SUM(Z4:AA4)/20) -> 0 | AC4: 0 | AD4: 0 | AE4: =IF($D4="","",SUM(AC4:AD4)/20) -> 0 | AF4: 0 | AG4: 0 | AH4: =IF(D4="","",(I4+N4+R4+V4+Y4+AB4+AE4+SUM(AF4:AG4))) -> -9.35 | AI4: =IF(AH4="","",ROUND(AH4*10/3,1)) -> -31.2
A5: =IF(D5="","",SUBTOTAL(3,$D$4:$D5)) -> 2 | B5: 01012023 | C5: Khoa CN Cơ khí | D5: Bùi Anh Tuấn | E5: 11 | F5: 0 | G5: 0 | H5: 0 | I5: =IF(D5="","",(E5+F5*2+G5*3+H5*2)) -> 11 | J5: 9.6 | K5: 7.2 | L5: 0 | M5: 0 | N5: =IF(D5="","",SUM(J5:M5)) -> 16.8 | O5: 158 | P5: 31 | Q5: 178 | R5: =IF(D5="","",(SUM(O5:P5)-Q5)/20) -> 0.55 | S5: 0 | T5: 0 | U5: 0 | V5: =IF(D5="","",(SUM(S5:T5)-U5)/10) -> 0 | W5: 0 | X5: 0 | Y5: =IF($D5="","",SUM(W5:X5)/20) -> 0 | Z5: 0 | AA5: 0 | AB5: =IF($D5="","",SUM(Z5:AA5)/20) -> 0 | AC5: 0 | AD5: 0 | AE5: =IF($D5="","",SUM(AC5:AD5)/20) -> 0 | AF5: 0 | AG5: 2.4 | AH5: =IF(D5="","",(I5+N5+R5+V5+Y5+AB5+AE5+SUM(AF5:AG5))) -> 30.75 | AI5: =IF(AH5="","",ROUND(AH5*10/3,1)) -> 102.5
A6: =IF(D6="","",SUBTOTAL(3,$D$4:$D6)) -> 3 | B6: 01012003 | C6: Khoa CN Cơ khí | D6: Chung Trần Thế Vinh | E6: 2 | F6: 0 | G6: 0 | H6: 0 | I6: =IF(D6="","",(E6+F6*2+G6*3+H6*2)) -> 2 | J6: 0 | K6: 0 | L6: 0 | M6: 0 | N6: =IF(D6="","",SUM(J6:M6)) -> 0 | O6: 16 | P6: 118 | Q6: 45 | R6: =IF(D6="","",(SUM(O6:P6)-Q6)/20) -> 4.45 | S6: 0 | T6: 0 | U6: 0 | V6: =IF(D6="","",(SUM(S6:T6)-U6)/10) -> 0 | W6: 0 | X6: 0 | Y6: =IF($D6="","",SUM(W6:X6)/20) -> 0 | Z6: 0 | AA6: 0 | AB6: =IF($D6="","",SUM(Z6:AA6)/20) -> 0 | AC6: 0 | AD6: 0 | AE6: =IF($D6="","",SUM(AC6:AD6)/20) -> 0 | AF6: 0 | AG6: 26.4 | AH6: =IF(D6="","",(I6+N6+R6+V6+Y6+AB6+AE6+SUM(AF6:AG6))) -> 32.85 | AI6: =IF(AH6="","",ROUND(AH6*10/3,1)) -> 109.5
A7: =IF(D7="","",SUBTOTAL(3,$D$4:$D7)) -> 4 | B7: 01012005 | C7: Khoa CN Cơ khí | D7: Đỗ Thị Phương Khanh | E7: 0 | F7: 4 | G7: 0 | H7: 0 | I7: =IF(D7="","",(E7+F7*2+G7*3+H7*2)) -> 8 | J7: 12.8 | K7: 3.6 | L7: 0 | M7: 0 | N7: =IF(D7="","",SUM(J7:M7)) -> 16.4 | O7: 80 | P7: 71 | Q7: 22 | R7: =IF(D7="","",(SUM(O7:P7)-Q7)/20) -> 6.45 | S7: 0 | T7: 0 | U7: 0 | V7: =IF(D7="","",(SUM(S7:T7)-U7)/10) -> 0 | W7: 0 | X7: 0 | Y7: =IF($D7="","",SUM(W7:X7)/20) -> 0 | Z7: 0 | AA7: 0 | AB7: =IF($D7="","",SUM(Z7:AA7)/20) -> 0 | AC7: 0 | AD7: 0 | AE7: =IF($D7="","",SUM(AC7:AD7)/20) -> 0 | AF7: 0 | AG7: 2.4 | AH7: =IF(D7="","",(I7+N7+R7+V7+Y7+AB7+AE7+SUM(AF7:AG7))) -> 33.25 | AI7: =IF(AH7="","",ROUND(AH7*10/3,1)) -> 110.8
A8: =IF(D8="","",SUBTOTAL(3,$D$4:$D8)) -> 5 | B8: 01012014 | C8: Khoa CN Cơ khí | D8: Dương Minh Chung | E8: 4 | F8: 0 | G8: 0 | H8: 0 | I8: =IF(D8="","",(E8+F8*2+G8*3+H8*2)) -> 4 | J8: 10.8 | K8: 0 | L8: 0 | M8: 0 | N8: =IF(D8="","",SUM(J8:M8)) -> 10.8 | O8: 93 | P8: 65 | Q8: 40 | R8: =IF(D8="","",(SUM(O8:P8)-Q8)/20) -> 5.9 | S8: 0 | T8: 0 | U8: 0 | V8: =IF(D8="","",(SUM(S8:T8)-U8)/10) -> 0 | W8: 0 | X8: 0 | Y8: =IF($D8="","",SUM(W8:X8)/20) -> 0 | Z8: 0 | AA8: 0 | AB8: =IF($D8="","",SUM(Z8:AA8)/20) -> 0 | AC8: 0 | AD8: 0 | AE8: =IF($D8="","",SUM(AC8:AD8)/20) -> 0 | AF8: 0 | AG8: 0 | AH8: =IF(D8="","",(I8+N8+R8+V8+Y8+AB8+AE8+SUM(AF8:AG8))) -> 20.7 | AI8: =IF(AH8="","",ROUND(AH8*10/3,1)) -> 69
A9: =IF(D9="","",SUBTOTAL(3,$D$4:$D9)) -> 6 | B9: 01012028 | C9: Khoa CN Cơ khí | D9: Dương Thị Hồng | E9: 10 | F9: 0 | G9: 0 | H9: 0 | I9: =IF(D9="","",(E9+F9*2+G9*3+H9*2)) -> 10 | J9: 3.6 | K9: 0 | L9: 0 | M9: 0 | N9: =IF(D9="","",SUM(J9:M9)) -> 3.6 | O9: 489 | P9: 529 | Q9: 515 | R9: =IF(D9="","",(SUM(O9:P9)-Q9)/20) -> 25.15 | S9: 0 | T9: 0 | U9: 0 | V9: =IF(D9="","",(SUM(S9:T9)-U9)/10) -> 0 | W9: 0 | X9: 0 | Y9: =IF($D9="","",SUM(W9:X9)/20) -> 0 | Z9: 0 | AA9: 0 | AB9: =IF($D9="","",SUM(Z9:AA9)/20) -> 0 | AC9: 0 | AD9: 0 | AE9: =IF($D9="","",SUM(AC9:AD9)/20) -> 0 | AF9: 0 | AG9: 0 | AH9: =IF(D9="","",(I9+N9+R9+V9+Y9+AB9+AE9+SUM(AF9:AG9))) -> 38.75 | AI9: =IF(AH9="","",ROUND(AH9*10/3,1)) -> 129.2
A10: =IF(D10="","",SUBTOTAL(3,$D$4:$D10)) -> 7 | B10: 01012027 | C10: Khoa CN Cơ khí | D10: Giáp Đức Nhận | E10: 0 | F10: 0 | G10: 0 | H10: 0 | I10: =IF(D10="","",(E10+F10*2+G10*3+H10*2)) -> 0 | J10: 0 | K10: 0 | L10: 0 | M10: 0 | N10: =IF(D10="","",SUM(J10:M10)) -> 0 | O10: 0 | P10: 0 | Q10: 0 | R10: =IF(D10="","",(SUM(O10:P10)-Q10)/20) -> 0 | S10: 0 | T10: 0 | U10: 0 | V10: =IF(D10="","",(SUM(S10:T10)-U10)/10) -> 0 | W10: 0 | X10: 0 | Y10: =IF($D10="","",SUM(W10:X10)/20) -> 0 | Z10: 0 | AA10: 0 | AB10: =IF($D10="","",SUM(Z10:AA10)/20) -> 0 | AC10: 0 | AD10: 0 | AE10: =IF($D10="","",SUM(AC10:AD10)/20) -> 0 | AF10: 0 | AG10: 0 | AH10: =IF(D10="","",(I10+N10+R10+V10+Y10+AB10+AE10+SUM(AF10:AG10))) -> 0 | AI10: =IF(AH10="","",ROUND(AH10*10/3,1)) -> 0
A11: =IF(D11="","",SUBTOTAL(3,$D$4:$D11)) -> 8 | B11: 01012030 | C11: Khoa CN Cơ khí | D11: Hồ Nhật Linh | E11: 0 | F11: 0 | G11: 0 | H11: 0 | I11: =IF(D11="","",(E11+F11*2+G11*3+H11*2)) -> 0 | J11: 0 | K11: 0 | L11: 0 | M11: 0 | N11: =IF(D11="","",SUM(J11:M11)) -> 0 | O11: 0 | P11: 0 | Q11: 0 | R11: =IF(D11="","",(SUM(O11:P11)-Q11)/20) -> 0 | S11: 0 | T11: 0 | U11: 0 | V11: =IF(D11="","",(SUM(S11:T11)-U11)/10) -> 0 | W11: 0 | X11: 0 | Y11: =IF($D11="","",SUM(W11:X11)/20) -> 0 | Z11: 0 | AA11: 0 | AB11: =IF($D11="","",SUM(Z11:AA11)/20) -> 0 | AC11: 0 | AD11: 0 | AE11: =IF($D11="","",SUM(AC11:AD11)/20) -> 0 | AF11: 0 | AG11: 0 | AH11: =IF(D11="","",(I11+N11+R11+V11+Y11+AB11+AE11+SUM(AF11:AG11))) -> 0 | AI11: =IF(AH11="","",ROUND(AH11*10/3,1)) -> 0
A12: =IF(D12="","",SUBTOTAL(3,$D$4:$D12)) -> 9 | B12: 01012016 | C12: Khoa CN Cơ khí | D12: Lư Thị Yến Vũ | E12: 4 | F12: 3 | G12: 0 | H12: 0 | I12: =IF(D12="","",(E12+F12*2+G12*3+H12*2)) -> 10 | J12: 0 | K12: 14.8 | L12: 0 | M12: 0 | N12: =IF(D12="","",SUM(J12:M12)) -> 14.8 | O12: 114 | P12: 187 | Q12: 152 | R12: =IF(D12="","",(SUM(O12:P12)-Q12)/20) -> 7.45 | S12: 181 | T12: 201 | U12: 181 | V12: =IF(D12="","",(SUM(S12:T12)-U12)/10) -> 20.1 | W12: 0 | X12: 0 | Y12: =IF($D12="","",SUM(W12:X12)/20) -> 0 | Z12: 0 | AA12: 0 | AB12: =IF($D12="","",SUM(Z12:AA12)/20) -> 0 | AC12: 0 | AD12: 0 | AE12: =IF($D12="","",SUM(AC12:AD12)/20) -> 0 | AF12: 0 | AG12: 1.6 | AH12: =IF(D12="","",(I12+N12+R12+V12+Y12+AB12+AE12+SUM(AF12:AG12))) -> 53.95 | AI12: =IF(AH12="","",ROUND(AH12*10/3,1)) -> 179.8
A13: =IF(D13="","",SUBTOTAL(3,$D$4:$D13)) -> 10 | B13: 01012024 | C13: Khoa CN Cơ khí | D13: Nguyễn Chí Ngãi | E13: 0 | F13: 0 | G13: 0 | H13: 0 | I13: =IF(D13="","",(E13+F13*2+G13*3+H13*2)) -> 0 | J13: 0 | K13: 0 | L13: 0 | M13: 0 | N13: =IF(D13="","",SUM(J13:M13)) -> 0 | O13: 29 | P13: 0 | Q13: 53 | R13: =IF(D13="","",(SUM(O13:P13)-Q13)/20) -> -1.2 | S13: 0 | T13: 0 | U13: 0 | V13: =IF(D13="","",(SUM(S13:T13)-U13)/10) -> 0 | W13: 0 | X13: 0 | Y13: =IF($D13="","",SUM(W13:X13)/20) -> 0 | Z13: 0 | AA13: 0 | AB13: =IF($D13="","",SUM(Z13:AA13)/20) -> 0 | AC13: 0 | AD13: 0 | AE13: =IF($D13="","",SUM(AC13:AD13)/20) -> 0 | AF13: 0 | AG13: 0 | AH13: =IF(D13="","",(I13+N13+R13+V13+Y13+AB13+AE13+SUM(AF13:AG13))) -> -1.2 | AI13: =IF(AH13="","",ROUND(AH13*10/3,1)) -> -4
A14: =IF(D14="","",SUBTOTAL(3,$D$4:$D14)) -> 11 | B14: 01012022 | C14: Khoa CN Cơ khí | D14: Nguyễn Duy Hải | E14: 0 | F14: 0 | G14: 0 | H14: 0 | I14: =IF(D14="","",(E14+F14*2+G14*3+H14*2)) -> 0 | J14: 8.4 | K14: 2.4 | L14: 0 | M14: 0 | N14: =IF(D14="","",SUM(J14:M14)) -> 10.8 | O14: 63 | P14: 119 | Q14: 132 | R14: =IF(D14="","",(SUM(O14:P14)-Q14)/20) -> 2.5 | S14: 0 | T14: 47 | U14: 0 | V14: =IF(D14="","",(SUM(S14:T14)-U14)/10) -> 4.7 | W14: 0 | X14: 0 | Y14: =IF($D14="","",SUM(W14:X14)/20) -> 0 | Z14: 0 | AA14: 0 | AB14: =IF($D14="","",SUM(Z14:AA14)/20) -> 0 | AC14: 0 | AD14: 0 | AE14: =IF($D14="","",SUM(AC14:AD14)/20) -> 0 | AF14: 0 | AG14: 8.8 | AH14: =IF(D14="","",(I14+N14+R14+V14+Y14+AB14+AE14+SUM(AF14:AG14))) -> 26.8 | AI14: =IF(AH14="","",ROUND(AH14*10/3,1)) -> 89.3
A15: =IF(D15="","",SUBTOTAL(3,$D$4:$D15)) -> 12 | B15: 01009004 | C15: Khoa CN Cơ khí | D15: Nguyễn Hoài Nam | E15: 0 | F15: 0 | G15: 0 | H15: 0 | I15: =IF(D15="","",(E15+F15*2+G15*3+H15*2)) -> 0 | J15: 0 | K15: 0 | L15: 0 | M15: 0 | N15: =IF(D15="","",SUM(J15:M15)) -> 0 | O15: 0 | P15: 0 | Q15: 0 | R15: =IF(D15="","",(SUM(O15:P15)-Q15)/20) -> 0 | S15: 0 | T15: 0 | U15: 0 | V15: =IF(D15="","",(SUM(S15:T15)-U15)/10) -> 0 | W15: 0 | X15: 0 | Y15: =IF($D15="","",SUM(W15:X15)/20) -> 0 | Z15: 0 | AA15: 0 | AB15: =IF($D15="","",SUM(Z15:AA15)/20) -> 0 | AC15: 0 | AD15: 0 | AE15: =IF($D15="","",SUM(AC15:AD15)/20) -> 0 | AF15: 0 | AG15: 0 | AH15: =IF(D15="","",(I15+N15+R15+V15+Y15+AB15+AE15+SUM(AF15:AG15))) -> 0 | AI15: =IF(AH15="","",ROUND(AH15*10/3,1)) -> 0
... A39: =IF(D39="","",SUBTOTAL(3,$D$4:$D39)) -> 36 | B39: 01009001 | C39: Tổ TT-PC | D39: Nguyễn Thanh Lâm | E39: 0 | F39: 0 | G39: 0 | H39: 0 | I39: =IF(D39="","",(E39+F39*2+G39*3+H39*2)) -> 0 | J39: 0 | K39: 0 | L39: 0 | M39: 0 | N39: =IF(D39="","",SUM(J39:M39)) -> 0 | O39: 0 | P39: 0 | Q39: 0 | R39: =IF(D39="","",(SUM(O39:P39)-Q39)/20) -> 0 | S39: 0 | T39: 0 | U39: 0 | V39: =IF(D39="","",(SUM(S39:T39)-U39)/10) -> 0 | W39: 0 | X39: 0 | Y39: =IF($D39="","",SUM(W39:X39)/20) -> 0 | Z39: 0 | AA39: 0 | AB39: =IF($D39="","",SUM(Z39:AA39)/20) -> 0 | AC39: 0 | AD39: 0 | AE39: =IF($D39="","",SUM(AC39:AD39)/20) -> 0 | AF39: 0 | AG39: 0 | AH39: =IF(D39="","",(I39+N39+R39+V39+Y39+AB39+AE39+SUM(AF39:AG39))) -> 0 | AI39: =IF(AH39="","",ROUND(AH39*10/3,1)) -> 0
A40: =IF(D40="","",SUBTOTAL(3,$D$4:$D40)) | AH40: =IF(D40="","",(I40+N40+R40+V40+Y40+AB40+AE40+SUM(AF40:AG40))) | AI40: =IF(AH40="","",ROUND(AH40*10/3,1))
E41: =SUBTOTAL(9,E2:E40) -> 84 | F41: =SUBTOTAL(9,F2:F40) -> 15 | G41: =SUBTOTAL(9,G2:G40) -> 0 | H41: =SUBTOTAL(9,H2:H40) -> 0 | I41: =SUBTOTAL(9,I2:I40) -> 114 | J41: =SUBTOTAL(9,J2:J40) -> 174.4 | K41: =SUBTOTAL(9,K2:K40) -> 108.4 | L41: =SUBTOTAL(9,L2:L40) -> 0 | ... AH41: =SUBTOTAL(9,AH2:AH40) -> 753.25

Sheet HK2
A1: STT | B1: Mã nhân sự | C1: Đơn vị | D1: HỌ VÀ TÊN GIẢNG VIÊN | E1: ĐỀ THI | J1: COI THI | O1: CHẤM THI KTHP | W1: CHẤM THI TỐT NGHIỆP | AF1: DỰ PHÒNG KỲ THI | AG1: GIÁM SÁT | AH1: TỔNG KHỐI LƯỢNG | AI1: =SUBTOTAL(9,AH:AH) -> 444.1
O2: LÝ THUYẾT | S2: TIỂU LUẬN | W2: LÝ THUYẾT | Z2: T.HÀNH CHUNG | AC2: T.HÀNH RIÊNG
E3: SL ĐỀ LT KTHP | F3: SL ĐỀ TN KTHP | G3: SL ĐỀ LT TN | H3: SL ĐỀ TH TN | I3: KL SOẠN ĐỀ (tiết) | J3: KTHPLT COITHI 1 | K3: KTHPLT COITHI 2 | L3: ThiTN COITHI 1 | M3: ThiTN COITHI 2 | N3: KL COITHI (tiết) | O3: SL BÀI LT CHẤM 1 | P3: SL BÀI LT CHẤM 2 | Q3: SL CHẤM LT NGHĨA VỤ | R3: KL CHẤM LT (tiết) | S3: SL BÀI TL CHẤM 1 | T3: SL BÀI TL CHẤM 2 | U3: SL CHẤM TL NGHĨA VỤ | V3: KL CHẤM TL (tiết) | W3: SL BÀI LT CHẤM 1 | X3: SL BÀI LT CHẤM 2 | Y3: KL CHẤM LT (tiết) | Z3: SL BÀI TL CHẤM 1 | AA3: SL BÀI TL CHẤM 2 | AB3: KL CHẤM TL (tiết) | AC3: SL BÀI TL CHẤM 1 | AD3: SL BÀI TL CHẤM 2 | AE3: KL CHẤM TL (tiết)
A4: =IF(D4="","",SUBTOTAL(3,$D$4:$D4)) -> 1 | B4: 01001006 | C4: Ban Giám hiệu | D4: Đinh Văn Đệ | E4: 0 | F4: 0 | G4: 0 | H4: 0 | I4: =IF(D4="","",(E4+F4*2+G4*3+H4*2)) -> 0 | J4: 0 | K4: 0 | L4: 0 | M4: 0 | N4: =IF(D4="","",SUM(J4:M4)) -> 0 | O4: 54 | P4: 0 | Q4: 107 | R4: =IF(D4="","",(SUM(O4:P4)-Q4)/20) -> -2.65 | S4: 0 | T4: 0 | U4: 0 | V4: =IF(D4="","",(SUM(S4:T4)-U4)/10) -> 0 | W4: 0 | X4: 0 | Y4: =IF($D4="","",SUM(W4:X4)/20) -> 0 | Z4: 0 | AA4: 0 | AB4: =IF($D4="","",SUM(Z4:AA4)/20) -> 0 | AC4: 0 | AD4: 0 | AE4: =IF($D4="","",SUM(AC4:AD4)/20) -> 0 | AF4: 0 | AG4: 0 | AH4: =IF(D4="","",(I4+N4+R4+V4+Y4+AB4+AE4+SUM(AF4:AG4))) -> -2.65 | AI4: =IF(AH4="","",ROUND(AH4*10/3,1)) -> -8.8
A5: =IF(D5="","",SUBTOTAL(3,$D$4:$D5)) -> 2 | B5: 01012023 | C5: Khoa CN Cơ khí | D5: Bùi Anh Tuấn | E5: 7 | F5: 0 | G5: 0 | H5: 0 | I5: =IF(D5="","",(E5+F5*2+G5*3+H5*2)) -> 7 | J5: 3.2 | K5: 9.6 | L5: 0 | M5: 0 | N5: =IF(D5="","",SUM(J5:M5)) -> 12.8 | O5: 134 | P5: 116 | Q5: 122 | R5: =IF(D5="","",(SUM(O5:P5)-Q5)/20) -> 6.4 | S5: 7 | T5: 52 | U5: 7 | V5: =IF(D5="","",(SUM(S5:T5)-U5)/10) -> 5.2 | W5: 0 | X5: 0 | Y5: =IF($D5="","",SUM(W5:X5)/20) -> 0 | Z5: 0 | AA5: 0 | AB5: =IF($D5="","",SUM(Z5:AA5)/20) -> 0 | AC5: 0 | AD5: 0 | AE5: =IF($D5="","",SUM(AC5:AD5)/20) -> 0 | AF5: 0 | AG5: 0 | AH5: =IF(D5="","",(I5+N5+R5+V5+Y5+AB5+AE5+SUM(AF5:AG5))) -> 31.4 | AI5: =IF(AH5="","",ROUND(AH5*10/3,1)) -> 104.7
A6: =IF(D6="","",SUBTOTAL(3,$D$4:$D6)) -> 3 | B6: 01012003 | C6: Khoa CN Cơ khí | D6: Chung Trần Thế Vinh | E6: 4 | F6: 0 | G6: 0 | H6: 0 | I6: =IF(D6="","",(E6+F6*2+G6*3+H6*2)) -> 4 | J6: 2.8 | K6: 0 | L6: 0 | M6: 0 | N6: =IF(D6="","",SUM(J6:M6)) -> 2.8 | O6: 15 | P6: 169 | Q6: 15 | R6: =IF(D6="","",(SUM(O6:P6)-Q6)/20) -> 8.45 | S6: 0 | T6: 14 | U6: 0 | V6: =IF(D6="","",(SUM(S6:T6)-U6)/10) -> 1.4 | W6: 0 | X6: 0 | Y6: =IF($D6="","",SUM(W6:X6)/20) -> 0 | Z6: 0 | AA6: 0 | AB6: =IF($D6="","",SUM(Z6:AA6)/20) -> 0 | AC6: 0 | AD6: 0 | AE6: =IF($D6="","",SUM(AC6:AD6)/20) -> 0 | AF6: 0 | AG6: 14.4 | AH6: =IF(D6="","",(I6+N6+R6+V6+Y6+AB6+AE6+SUM(AF6:AG6))) -> 31.05 | AI6: =IF(AH6="","",ROUND(AH6*10/3,1)) -> 103.5
A7: =IF(D7="","",SUBTOTAL(3,$D$4:$D7)) -> 4 | B7: 01012005 | C7: Khoa CN Cơ khí | D7: Đỗ Thị Phương Khanh | E7: 3 | F7: 0 | G7: 0 | H7: 0 | I7: =IF(D7="","",(E7+F7*2+G7*3+H7*2)) -> 3 | J7: 6.4 | K7: 4.4 | L7: 0 | M7: 0 | N7: =IF(D7="","",SUM(J7:M7)) -> 10.8 | O7: 130 | P7: 324 | Q7: 240 | R7: =IF(D7="","",(SUM(O7:P7)-Q7)/20) -> 10.7 | S7: 0 | T7: 126 | U7: 0 | V7: =IF(D7="","",(SUM(S7:T7)-U7)/10) -> 12.6 | W7: 0 | X7: 0 | Y7: =IF($D7="","",SUM(W7:X7)/20) -> 0 | Z7: 0 | AA7: 0 | AB7: =IF($D7="","",SUM(Z7:AA7)/20) -> 0 | AC7: 0 | AD7: 0 | AE7: =IF($D7="","",SUM(AC7:AD7)/20) -> 0 | AF7: 0 | AG7: 0 | AH7: =IF(D7="","",(I7+N7+R7+V7+Y7+AB7+AE7+SUM(AF7:AG7))) -> 37.1 | AI7: =IF(AH7="","",ROUND(AH7*10/3,1)) -> 123.7
A8: =IF(D8="","",SUBTOTAL(3,$D$4:$D8)) -> 5 | B8: 01012014 | C8: Khoa CN Cơ khí | D8: Dương Minh Chung | E8: 0 | F8: 0 | G8: 0 | H8: 0 | I8: =IF(D8="","",(E8+F8*2+G8*3+H8*2)) -> 0 | J8: 4.8 | K8: 2.8 | L8: 0 | M8: 0 | N8: =IF(D8="","",SUM(J8:M8)) -> 7.6 | O8: 153 | P8: 0 | Q8: 136 | R8: =IF(D8="","",(SUM(O8:P8)-Q8)/20) -> 0.85 | S8: 0 | T8: 0 | U8: 0 | V8: =IF(D8="","",(SUM(S8:T8)-U8)/10) -> 0 | W8: 0 | X8: 0 | Y8: =IF($D8="","",SUM(W8:X8)/20) -> 0 | Z8: 0 | AA8: 0 | AB8: =IF($D8="","",SUM(Z8:AA8)/20) -> 0 | AC8: 0 | AD8: 0 | AE8: =IF($D8="","",SUM(AC8:AD8)/20) -> 0 | AF8: 0 | AG8: 0 | AH8: =IF(D8="","",(I8+N8+R8+V8+Y8+AB8+AE8+SUM(AF8:AG8))) -> 8.45 | AI8: =IF(AH8="","",ROUND(AH8*10/3,1)) -> 28.2
A9: =IF(D9="","",SUBTOTAL(3,$D$4:$D9)) -> 6 | B9: 01012028 | C9: Khoa CN Cơ khí | D9: Dương Thị Hồng | E9: 0 | F9: 0 | G9: 0 | H9: 0 | I9: =IF(D9="","",(E9+F9*2+G9*3+H9*2)) -> 0 | J9: 0 | K9: 0 | L9: 0 | M9: 0 | N9: =IF(D9="","",SUM(J9:M9)) -> 0 | O9: 0 | P9: 0 | Q9: 0 | R9: =IF(D9="","",(SUM(O9:P9)-Q9)/20) -> 0 | S9: 0 | T9: 0 | U9: 0 | V9: =IF(D9="","",(SUM(S9:T9)-U9)/10) -> 0 | W9: 0 | X9: 0 | Y9: =IF($D9="","",SUM(W9:X9)/20) -> 0 | Z9: 0 | AA9: 0 | AB9: =IF($D9="","",SUM(Z9:AA9)/20) -> 0 | AC9: 0 | AD9: 0 | AE9: =IF($D9="","",SUM(AC9:AD9)/20) -> 0 | AF9: 0 | AG9: 0 | AH9: =IF(D9="","",(I9+N9+R9+V9+Y9+AB9+AE9+SUM(AF9:AG9))) -> 0 | AI9: =IF(AH9="","",ROUND(AH9*10/3,1)) -> 0
A10: =IF(D10="","",SUBTOTAL(3,$D$4:$D10)) -> 7 | B10: 01012027 | C10: Khoa CN Cơ khí | D10: Giáp Đức Nhận | E10: 0 | F10: 0 | G10: 0 | H10: 0 | I10: =IF(D10="","",(E10+F10*2+G10*3+H10*2)) -> 0 | J10: 0 | K10: 0 | L10: 0 | M10: 0 | N10: =IF(D10="","",SUM(J10:M10)) -> 0 | O10: 0 | P10: 0 | Q10: 0 | R10: =IF(D10="","",(SUM(O10:P10)-Q10)/20) -> 0 | S10: 0 | T10: 0 | U10: 0 | V10: =IF(D10="","",(SUM(S10:T10)-U10)/10) -> 0 | W10: 0 | X10: 0 | Y10: =IF($D10="","",SUM(W10:X10)/20) -> 0 | Z10: 0 | AA10: 0 | AB10: =IF($D10="","",SUM(Z10:AA10)/20) -> 0 | AC10: 0 | AD10: 0 | AE10: =IF($D10="","",SUM(AC10:AD10)/20) -> 0 | AF10: 0 | AG10: 0 | AH10: =IF(D10="","",(I10+N10+R10+V10+Y10+AB10+AE10+SUM(AF10:AG10))) -> 0 | AI10: =IF(AH10="","",ROUND(AH10*10/3,1)) -> 0
A11: =IF(D11="","",SUBTOTAL(3,$D$4:$D11)) -> 8 | B11: 01012030 | C11: Khoa CN Cơ khí | D11: Hồ Nhật Linh | E11: 0 | F11: 4 | G11: 0 | H11: 0 | I11: =IF(D11="","",(E11+F11*2+G11*3+H11*2)) -> 8 | J11: 0 | K11: 0 | L11: 0 | M11: 0 | N11: =IF(D11="","",SUM(J11:M11)) -> 0 | O11: 24 | P11: 24 | Q11: 26 | R11: =IF(D11="","",(SUM(O11:P11)-Q11)/20) -> 1.1 | S11: 0 | T11: 0 | U11: 0 | V11: =IF(D11="","",(SUM(S11:T11)-U11)/10) -> 0 | W11: 0 | X11: 0 | Y11: =IF($D11="","",SUM(W11:X11)/20) -> 0 | Z11: 0 | AA11: 0 | AB11: =IF($D11="","",SUM(Z11:AA11)/20) -> 0 | AC11: 0 | AD11: 0 | AE11: =IF($D11="","",SUM(AC11:AD11)/20) -> 0 | AF11: 0 | AG11: 0 | AH11: =IF(D11="","",(I11+N11+R11+V11+Y11+AB11+AE11+SUM(AF11:AG11))) -> 9.1 | AI11: =IF(AH11="","",ROUND(AH11*10/3,1)) -> 30.3
A12: =IF(D12="","",SUBTOTAL(3,$D$4:$D12)) -> 9 | B12: 01012016 | C12: Khoa CN Cơ khí | D12: Lư Thị Yến Vũ | E12: 4 | F12: 2 | G12: 0 | H12: 0 | I12: =IF(D12="","",(E12+F12*2+G12*3+H12*2)) -> 8 | J12: 3.2 | K12: 3.2 | L12: 0 | M12: 0 | N12: =IF(D12="","",SUM(J12:M12)) -> 6.4 | O12: 95 | P12: 0 | Q12: 95 | R12: =IF(D12="","",(SUM(O12:P12)-Q12)/20) -> 0 | S12: 18 | T12: 84 | U12: 18 | V12: =IF(D12="","",(SUM(S12:T12)-U12)/10) -> 8.4 | W12: 0 | X12: 0 | Y12: =IF($D12="","",SUM(W12:X12)/20) -> 0 | Z12: 0 | AA12: 0 | AB12: =IF($D12="","",SUM(Z12:AA12)/20) -> 0 | AC12: 0 | AD12: 0 | AE12: =IF($D12="","",SUM(AC12:AD12)/20) -> 0 | AF12: 0 | AG12: 0 | AH12: =IF(D12="","",(I12+N12+R12+V12+Y12+AB12+AE12+SUM(AF12:AG12))) -> 22.8 | AI12: =IF(AH12="","",ROUND(AH12*10/3,1)) -> 76
A13: =IF(D13="","",SUBTOTAL(3,$D$4:$D13)) -> 10 | B13: 01012024 | C13: Khoa CN Cơ khí | D13: Nguyễn Chí Ngãi | E13: 0 | F13: 0 | G13: 0 | H13: 0 | I13: =IF(D13="","",(E13+F13*2+G13*3+H13*2)) -> 0 | J13: 0 | K13: 0 | L13: 0 | M13: 0 | N13: =IF(D13="","",SUM(J13:M13)) -> 0 | O13: 0 | P13: 0 | Q13: 0 | R13: =IF(D13="","",(SUM(O13:P13)-Q13)/20) -> 0 | S13: 0 | T13: 0 | U13: 0 | V13: =IF(D13="","",(SUM(S13:T13)-U13)/10) -> 0 | W13: 0 | X13: 0 | Y13: =IF($D13="","",SUM(W13:X13)/20) -> 0 | Z13: 0 | AA13: 0 | AB13: =IF($D13="","",SUM(Z13:AA13)/20) -> 0 | AC13: 0 | AD13: 0 | AE13: =IF($D13="","",SUM(AC13:AD13)/20) -> 0 | AF13: 0 | AG13: 0 | AH13: =IF(D13="","",(I13+N13+R13+V13+Y13+AB13+AE13+SUM(AF13:AG13))) -> 0 | AI13: =IF(AH13="","",ROUND(AH13*10/3,1)) -> 0
A14: =IF(D14="","",SUBTOTAL(3,$D$4:$D14)) -> 11 | B14: 01012022 | C14: Khoa CN Cơ khí | D14: Nguyễn Duy Hải | E14: 0 | F14: 0 | G14: 0 | H14: 0 | I14: =IF(D14="","",(E14+F14*2+G14*3+H14*2)) -> 0 | J14: 3.6 | K14: 1.6 | L14: 0 | M14: 0 | N14: =IF(D14="","",SUM(J14:M14)) -> 5.2 | O14: 27 | P14: 0 | Q14: 27 | R14: =IF(D14="","",(SUM(O14:P14)-Q14)/20) -> 0 | S14: 0 | T14: 18 | U14: 0 | V14: =IF(D14="","",(SUM(S14:T14)-U14)/10) -> 1.8 | W14: 0 | X14: 0 | Y14: =IF($D14="","",SUM(W14:X14)/20) -> 0 | Z14: 0 | AA14: 0 | AB14: =IF($D14="","",SUM(Z14:AA14)/20) -> 0 | AC14: 0 | AD14: 0 | AE14: =IF($D14="","",SUM(AC14:AD14)/20) -> 0 | AF14: 2.4 | AG14: 0 | AH14: =IF(D14="","",(I14+N14+R14+V14+Y14+AB14+AE14+SUM(AF14:AG14))) -> 9.4 | AI14: =IF(AH14="","",ROUND(AH14*10/3,1)) -> 31.3
A15: =IF(D15="","",SUBTOTAL(3,$D$4:$D15)) -> 12 | B15: 01009004 | C15: Khoa CN Cơ khí | D15: Nguyễn Hoài Nam | E15: 0 | F15: 0 | G15: 0 | H15: 0 | I15: =IF(D15="","",(E15+F15*2+G15*3+H15*2)) -> 0 | J15: 0 | K15: 0 | L15: 0 | M15: 0 | N15: =IF(D15="","",SUM(J15:M15)) -> 0 | O15: 0 | P15: 0 | Q15: 0 | R15: =IF(D15="","",(SUM(O15:P15)-Q15)/20) -> 0 | S15: 0 | T15: 0 | U15: 0 | V15: =IF(D15="","",(SUM(S15:T15)-U15)/10) -> 0 | W15: 0 | X15: 0 | Y15: =IF($D15="","",SUM(W15:X15)/20) -> 0 | Z15: 0 | AA15: 0 | AB15: =IF($D15="","",SUM(Z15:AA15)/20) -> 0 | AC15: 0 | AD15: 0 | AE15: =IF($D15="","",SUM(AC15:AD15)/20) -> 0 | AF15: 0 | AG15: 4.8 | AH15: =IF(D15="","",(I15+N15+R15+V15+Y15+AB15+AE15+SUM(AF15:AG15))) -> 4.8 | AI15: =IF(AH15="","",ROUND(AH15*10/3,1)) -> 16
... A39: =IF(D39="","",SUBTOTAL(3,$D$4:$D39)) -> 36 | B39: 01009001 | C39: Tổ TT-PC | D39: Nguyễn Thanh Lâm | E39: 0 | F39: 0 | G39: 0 | H39: 0 | I39: =IF(D39="","",(E39+F39*2+G39*3+H39*2)) -> 0 | J39: 0 | K39: 0 | L39: 0 | M39: 0 | N39: =IF(D39="","",SUM(J39:M39)) -> 0 | O39: 0 | P39: 0 | Q39: 0 | R39: =IF(D39="","",(SUM(O39:P39)-Q39)/20) -> 0 | S39: 84 | T39: 0 | U39: 84 | V39: =IF(D39="","",(SUM(S39:T39)-U39)/10) -> 0 | W39: 0 | X39: 0 | Y39: =IF($D39="","",SUM(W39:X39)/20) -> 0 | Z39: 0 | AA39: 0 | AB39: =IF($D39="","",SUM(Z39:AA39)/20) -> 0 | AC39: 0 | AD39: 0 | AE39: =IF($D39="","",SUM(AC39:AD39)/20) -> 0 | AF39: 0 | AG39: 0 | AH39: =IF(D39="","",(I39+N39+R39+V39+Y39+AB39+AE39+SUM(AF39:AG39))) -> 0 | AI39: =IF(AH39="","",ROUND(AH39*10/3,1)) -> 0
A40: =IF(D40="","",SUBTOTAL(3,$D$4:$D40)) | AH40: =IF(D40="","",(I40+N40+R40+V40+Y40+AB40+AE40+SUM(AF40:AG40))) | AI40: =IF(AH40="","",ROUND(AH40*10/3,1))
E41: =SUBTOTAL(9,E2:E40) -> 61 | F41: =SUBTOTAL(9,F2:F40) -> 10 | G41: =SUBTOTAL(9,G2:G40) -> 0 | H41: =SUBTOTAL(9,H2:H40) -> 0 | I41: =SUBTOTAL(9,I2:I40) -> 81 | J41: =SUBTOTAL(9,J2:J40) -> 99.6 | K41: =SUBTOTAL(9,K2:K40) -> 62.4 | L41: =SUBTOTAL(9,L2:L40) -> 0 | ... AH41: =SUBTOTAL(9,AH2:AH40) -> 444.1

Sheet CA NAM
A1: STT | B1: Mã nhân sự | C1: Đơn vị | D1: HỌ VÀ TÊN GIẢNG VIÊN | E1: ĐỀ THI | J1: COI THI | O1: CHẤM THI KTHP | W1: CHẤM THI TỐT NGHIỆP | AF1: DỰ PHÒNG KỲ THI | AG1: GIÁM SÁT | AH1: TỔNG KHỐI LƯỢNG | AI1: =SUBTOTAL(9,AH:AH) -> 1197.8
O2: LÝ THUYẾT | S2: TIỂU LUẬN | W2: LÝ THUYẾT | Z2: T.HÀNH CHUNG | AC2: T.HÀNH RIÊNG
E3: SL ĐỀ LT KTHP | F3: SL ĐỀ TN KTHP | G3: SL ĐỀ LT TN | H3: SL ĐỀ TH TN | I3: KL SOẠN ĐỀ (tiết) | J3: KTHPLT COITHI 1 | K3: KTHPLT COITHI 2 | L3: ThiTN COITHI 1 | M3: ThiTN COITHI 2 | N3: KL COITHI (tiết) | O3: SL BÀI LT CHẤM 1 | P3: SL BÀI LT CHẤM 2 | Q3: SL CHẤM LT NGHĨA VỤ | R3: KL CHẤM LT (tiết) | S3: SL BÀI TL CHẤM 1 | T3: SL BÀI TL CHẤM 2 | U3: SL CHẤM TL NGHĨA VỤ | V3: KL CHẤM TL (tiết) | W3: SL BÀI LT CHẤM 1 | X3: SL BÀI LT CHẤM 2 | Y3: KL CHẤM LT (tiết) | Z3: SL BÀI TL CHẤM 1 | AA3: SL BÀI TL CHẤM 2 | AB3: KL CHẤM TL (tiết) | AC3: SL BÀI TL CHẤM 1 | AD3: SL BÀI TL CHẤM 2 | AE3: KL CHẤM TL (tiết)
A4: =IF(D4="","",SUBTOTAL(3,$D$4:$D4)) -> 1 | B4: 01001006 | C4: Ban Giám hiệu | D4: Đinh Văn Đệ | E4: =IF($D4="","",'HK1'!E4+'HK2'!E4) -> 0 | F4: =IF($D4="","",'HK1'!F4+'HK2'!F4) -> 0 | G4: =IF($D4="","",'HK1'!G4+'HK2'!G4) -> 0 | H4: =IF($D4="","",'HK1'!H4+'HK2'!H4) -> 0 | I4: =IF(D4="","",(E4+F4*2+G4*3+H4*2)) -> 0 | J4: =IF($D4="","",'HK1'!J4+'HK2'!J4) -> 0 | K4: =IF($D4="","",'HK1'!K4+'HK2'!K4) -> 0 | L4: =IF($D4="","",'HK1'!L4+'HK2'!L4) -> 0 | M4: =IF($D4="","",'HK1'!M4+'HK2'!M4) -> 0 | N4: =IF(D4="","",SUM(J4:M4)) -> 0 | O4: =IF($D4="","",'HK1'!O4+'HK2'!O4) -> 54 | P4: =IF($D4="","",'HK1'!P4+'HK2'!P4) -> 0 | Q4: =IF($D4="","",'HK1'!Q4+'HK2'!Q4) -> 294 | R4: =IF(D4="","",(SUM(O4:P4)-Q4)/20) -> -12 | S4: =IF($D4="","",'HK1'!S4+'HK2'!S4) -> 0 | T4: =IF($D4="","",'HK1'!T4+'HK2'!T4) -> 0 | U4: =IF($D4="","",'HK1'!U4+'HK2'!U4) -> 0 | V4: =IF(D4="","",(SUM(S4:T4)-U4)/10) -> 0 | W4: =IF($D4="","",'HK1'!W4+'HK2'!W4) -> 0 | X4: =IF($D4="","",'HK1'!X4+'HK2'!X4) -> 0 | Y4: =IF(D4="","",SUM(W4:X4)/14) -> 0 | Z4: =IF($D4="","",'HK1'!Z4+'HK2'!Z4) -> 0 | AA4: =IF($D4="","",'HK1'!AA4+'HK2'!AA4) -> 0 | AB4: =IF(D4="","",SUM(Z4:AA4)/10) -> 0 | AC4: =IF($D4="","",'HK1'!AC4+'HK2'!AC4) -> 0 | AD4: =IF($D4="","",'HK1'!AD4+'HK2'!AD4) -> 0 | AE4: =IF(D4="","",SUM(AC4:AD4)/20) -> 0 | AF4: =IF($D4="","",'HK1'!AF4+'HK2'!AF4) -> 0 | AG4: =IF($D4="","",'HK1'!AG4+'HK2'!AG4) -> 0 | AH4: =IF(D4="","",ROUND(I4+N4+R4+V4+Y4+AB4+AE4+SUM(AF4:AG4),1)) -> -12 | AI4: =IF(AH4="","",ROUND(AH4*10/3,1)) -> -40
A5: =IF(D5="","",SUBTOTAL(3,$D$4:$D5)) -> 2 | B5: 01012023 | C5: Khoa CN Cơ khí | D5: Bùi Anh Tuấn | E5: =IF($D5="","",'HK1'!E5+'HK2'!E5) -> 18 | F5: =IF($D5="","",'HK1'!F5+'HK2'!F5) -> 0 | G5: =IF($D5="","",'HK1'!G5+'HK2'!G5) -> 0 | H5: =IF($D5="","",'HK1'!H5+'HK2'!H5) -> 0 | I5: =IF(D5="","",(E5+F5*2+G5*3+H5*2)) -> 18 | J5: =IF($D5="","",'HK1'!J5+'HK2'!J5) -> 12.8 | K5: =IF($D5="","",'HK1'!K5+'HK2'!K5) -> 16.8 | L5: =IF($D5="","",'HK1'!L5+'HK2'!L5) -> 0 | M5: =IF($D5="","",'HK1'!M5+'HK2'!M5) -> 0 | N5: =IF(D5="","",SUM(J5:M5)) -> 29.6 | O5: =IF($D5="","",'HK1'!O5+'HK2'!O5) -> 292 | P5: =IF($D5="","",'HK1'!P5+'HK2'!P5) -> 147 | Q5: =IF($D5="","",'HK1'!Q5+'HK2'!Q5) -> 300 | R5: =IF(D5="","",(SUM(O5:P5)-Q5)/20) -> 6.95 | S5: =IF($D5="","",'HK1'!S5+'HK2'!S5) -> 7 | T5: =IF($D5="","",'HK1'!T5+'HK2'!T5) -> 52 | U5: =IF($D5="","",'HK1'!U5+'HK2'!U5) -> 7 | V5: =IF(D5="","",(SUM(S5:T5)-U5)/10) -> 5.2 | W5: =IF($D5="","",'HK1'!W5+'HK2'!W5) -> 0 | X5: =IF($D5="","",'HK1'!X5+'HK2'!X5) -> 0 | Y5: =IF(D5="","",SUM(W5:X5)/14) -> 0 | Z5: =IF($D5="","",'HK1'!Z5+'HK2'!Z5) -> 0 | AA5: =IF($D5="","",'HK1'!AA5+'HK2'!AA5) -> 0 | AB5: =IF(D5="","",SUM(Z5:AA5)/10) -> 0 | AC5: =IF($D5="","",'HK1'!AC5+'HK2'!AC5) -> 0 | AD5: =IF($D5="","",'HK1'!AD5+'HK2'!AD5) -> 0 | AE5: =IF(D5="","",SUM(AC5:AD5)/20) -> 0 | AF5: =IF($D5="","",'HK1'!AF5+'HK2'!AF5) -> 0 | AG5: =IF($D5="","",'HK1'!AG5+'HK2'!AG5) -> 2.4 | AH5: =IF(D5="","",ROUND(I5+N5+R5+V5+Y5+AB5+AE5+SUM(AF5:AG5),1)) -> 62.2 | AI5: =IF(AH5="","",ROUND(AH5*10/3,1)) -> 207.3
A6: =IF(D6="","",SUBTOTAL(3,$D$4:$D6)) -> 3 | B6: 01012003 | C6: Khoa CN Cơ khí | D6: Chung Trần Thế Vinh | E6: =IF($D6="","",'HK1'!E6+'HK2'!E6) -> 6 | F6: =IF($D6="","",'HK1'!F6+'HK2'!F6) -> 0 | G6: =IF($D6="","",'HK1'!G6+'HK2'!G6) -> 0 | H6: =IF($D6="","",'HK1'!H6+'HK2'!H6) -> 0 | I6: =IF(D6="","",(E6+F6*2+G6*3+H6*2)) -> 6 | J6: =IF($D6="","",'HK1'!J6+'HK2'!J6) -> 2.8 | K6: =IF($D6="","",'HK1'!K6+'HK2'!K6) -> 0 | L6: =IF($D6="","",'HK1'!L6+'HK2'!L6) -> 0 | M6: =IF($D6="","",'HK1'!M6+'HK2'!M6) -> 0 | N6: =IF(D6="","",SUM(J6:M6)) -> 2.8 | O6: =IF($D6="","",'HK1'!O6+'HK2'!O6) -> 31 | P6: =IF($D6="","",'HK1'!P6+'HK2'!P6) -> 287 | Q6: =IF($D6="","",'HK1'!Q6+'HK2'!Q6) -> 60 | R6: =IF(D6="","",(SUM(O6:P6)-Q6)/20) -> 12.9 | S6: =IF($D6="","",'HK1'!S6+'HK2'!S6) -> 0 | T6: =IF($D6="","",'HK1'!T6+'HK2'!T6) -> 14 | U6: =IF($D6="","",'HK1'!U6+'HK2'!U6) -> 0 | V6: =IF(D6="","",(SUM(S6:T6)-U6)/10) -> 1.4 | W6: =IF($D6="","",'HK1'!W6+'HK2'!W6) -> 0 | X6: =IF($D6="","",'HK1'!X6+'HK2'!X6) -> 0 | Y6: =IF(D6="","",SUM(W6:X6)/14) -> 0 | Z6: =IF($D6="","",'HK1'!Z6+'HK2'!Z6) -> 0 | AA6: =IF($D6="","",'HK1'!AA6+'HK2'!AA6) -> 0 | AB6: =IF(D6="","",SUM(Z6:AA6)/10) -> 0 | AC6: =IF($D6="","",'HK1'!AC6+'HK2'!AC6) -> 0 | AD6: =IF($D6="","",'HK1'!AD6+'HK2'!AD6) -> 0 | AE6: =IF(D6="","",SUM(AC6:AD6)/20) -> 0 | AF6: =IF($D6="","",'HK1'!AF6+'HK2'!AF6) -> 0 | AG6: =IF($D6="","",'HK1'!AG6+'HK2'!AG6) -> 40.8 | AH6: =IF(D6="","",ROUND(I6+N6+R6+V6+Y6+AB6+AE6+SUM(AF6:AG6),1)) -> 63.9 | AI6: =IF(AH6="","",ROUND(AH6*10/3,1)) -> 213
A7: =IF(D7="","",SUBTOTAL(3,$D$4:$D7)) -> 4 | B7: 01012005 | C7: Khoa CN Cơ khí | D7: Đỗ Thị Phương Khanh | E7: =IF($D7="","",'HK1'!E7+'HK2'!E7) -> 3 | F7: =IF($D7="","",'HK1'!F7+'HK2'!F7) -> 4 | G7: =IF($D7="","",'HK1'!G7+'HK2'!G7) -> 0 | H7: =IF($D7="","",'HK1'!H7+'HK2'!H7) -> 0 | I7: =IF(D7="","",(E7+F7*2+G7*3+H7*2)) -> 11 | J7: =IF($D7="","",'HK1'!J7+'HK2'!J7) -> 19.2 | K7: =IF($D7="","",'HK1'!K7+'HK2'!K7) -> 8 | L7: =IF($D7="","",'HK1'!L7+'HK2'!L7) -> 0 | M7: =IF($D7="","",'HK1'!M7+'HK2'!M7) -> 0 | N7: =IF(D7="","",SUM(J7:M7)) -> 27.2 | O7: =IF($D7="","",'HK1'!O7+'HK2'!O7) -> 210 | P7: =IF($D7="","",'HK1'!P7+'HK2'!P7) -> 395 | Q7: =IF($D7="","",'HK1'!Q7+'HK2'!Q7) -> 262 | R7: =IF(D7="","",(SUM(O7:P7)-Q7)/20) -> 17.15 | S7: =IF($D7="","",'HK1'!S7+'HK2'!S7) -> 0 | T7: =IF($D7="","",'HK1'!T7+'HK2'!T7) -> 126 | U7: =IF($D7="","",'HK1'!U7+'HK2'!U7) -> 0 | V7: =IF(D7="","",(SUM(S7:T7)-U7)/10) -> 12.6 | W7: =IF($D7="","",'HK1'!W7+'HK2'!W7) -> 0 | X7: =IF($D7="","",'HK1'!X7+'HK2'!X7) -> 0 | Y7: =IF(D7="","",SUM(W7:X7)/14) -> 0 | Z7: =IF($D7="","",'HK1'!Z7+'HK2'!Z7) -> 0 | AA7: =IF($D7="","",'HK1'!AA7+'HK2'!AA7) -> 0 | AB7: =IF(D7="","",SUM(Z7:AA7)/10) -> 0 | AC7: =IF($D7="","",'HK1'!AC7+'HK2'!AC7) -> 0 | AD7: =IF($D7="","",'HK1'!AD7+'HK2'!AD7) -> 0 | AE7: =IF(D7="","",SUM(AC7:AD7)/20) -> 0 | AF7: =IF($D7="","",'HK1'!AF7+'HK2'!AF7) -> 0 | AG7: =IF($D7="","",'HK1'!AG7+'HK2'!AG7) -> 2.4 | AH7: =IF(D7="","",ROUND(I7+N7+R7+V7+Y7+AB7+AE7+SUM(AF7:AG7),1)) -> 70.4 | AI7: =IF(AH7="","",ROUND(AH7*10/3,1)) -> 234.7
A8: =IF(D8="","",SUBTOTAL(3,$D$4:$D8)) -> 5 | B8: 01012014 | C8: Khoa CN Cơ khí | D8: Dương Minh Chung | E8: =IF($D8="","",'HK1'!E8+'HK2'!E8) -> 4 | F8: =IF($D8="","",'HK1'!F8+'HK2'!F8) -> 0 | G8: =IF($D8="","",'HK1'!G8+'HK2'!G8) -> 0 | H8: =IF($D8="","",'HK1'!H8+'HK2'!H8) -> 0 | I8: =IF(D8="","",(E8+F8*2+G8*3+H8*2)) -> 4 | J8: =IF($D8="","",'HK1'!J8+'HK2'!J8) -> 15.6 | K8: =IF($D8="","",'HK1'!K8+'HK2'!K8) -> 2.8 | L8: =IF($D8="","",'HK1'!L8+'HK2'!L8) -> 0 | M8: =IF($D8="","",'HK1'!M8+'HK2'!M8) -> 0 | N8: =IF(D8="","",SUM(J8:M8)) -> 18.4 | O8: =IF($D8="","",'HK1'!O8+'HK2'!O8) -> 246 | P8: =IF($D8="","",'HK1'!P8+'HK2'!P8) -> 65 | Q8: =IF($D8="","",'HK1'!Q8+'HK2'!Q8) -> 176 | R8: =IF(D8="","",(SUM(O8:P8)-Q8)/20) -> 6.75 | S8: =IF($D8="","",'HK1'!S8+'HK2'!S8) -> 0 | T8: =IF($D8="","",'HK1'!T8+'HK2'!T8) -> 0 | U8: =IF($D8="","",'HK1'!U8+'HK2'!U8) -> 0 | V8: =IF(D8="","",(SUM(S8:T8)-U8)/10) -> 0 | W8: =IF($D8="","",'HK1'!W8+'HK2'!W8) -> 0 | X8: =IF($D8="","",'HK1'!X8+'HK2'!X8) -> 0 | Y8: =IF(D8="","",SUM(W8:X8)/14) -> 0 | Z8: =IF($D8="","",'HK1'!Z8+'HK2'!Z8) -> 0 | AA8: =IF($D8="","",'HK1'!AA8+'HK2'!AA8) -> 0 | AB8: =IF(D8="","",SUM(Z8:AA8)/10) -> 0 | AC8: =IF($D8="","",'HK1'!AC8+'HK2'!AC8) -> 0 | AD8: =IF($D8="","",'HK1'!AD8+'HK2'!AD8) -> 0 | AE8: =IF(D8="","",SUM(AC8:AD8)/20) -> 0 | AF8: =IF($D8="","",'HK1'!AF8+'HK2'!AF8) -> 0 | AG8: =IF($D8="","",'HK1'!AG8+'HK2'!AG8) -> 0 | AH8: =IF(D8="","",ROUND(I8+N8+R8+V8+Y8+AB8+AE8+SUM(AF8:AG8),1)) -> 29.2 | AI8: =IF(AH8="","",ROUND(AH8*10/3,1)) -> 97.3
A9: =IF(D9="","",SUBTOTAL(3,$D$4:$D9)) -> 6 | B9: 01012028 | C9: Khoa CN Cơ khí | D9: Dương Thị Hồng | E9: =IF($D9="","",'HK1'!E9+'HK2'!E9) -> 10 | F9: =IF($D9="","",'HK1'!F9+'HK2'!F9) -> 0 | G9: =IF($D9="","",'HK1'!G9+'HK2'!G9) -> 0 | H9: =IF($D9="","",'HK1'!H9+'HK2'!H9) -> 0 | I9: =IF(D9="","",(E9+F9*2+G9*3+H9*2)) -> 10 | J9: =IF($D9="","",'HK1'!J9+'HK2'!J9) -> 3.6 | K9: =IF($D9="","",'HK1'!K9+'HK2'!K9) -> 0 | L9: =IF($D9="","",'HK1'!L9+'HK2'!L9) -> 0 | M9: =IF($D9="","",'HK1'!M9+'HK2'!M9) -> 0 | N9: =IF(D9="","",SUM(J9:M9)) -> 3.6 | O9: =IF($D9="","",'HK1'!O9+'HK2'!O9) -> 489 | P9: =IF($D9="","",'HK1'!P9+'HK2'!P9) -> 529 | Q9: =IF($D9="","",'HK1'!Q9+'HK2'!Q9) -> 515 | R9: =IF(D9="","",(SUM(O9:P9)-Q9)/20) -> 25.15 | S9: =IF($D9="","",'HK1'!S9+'HK2'!S9) -> 0 | T9: =IF($D9="","",'HK1'!T9+'HK2'!T9) -> 0 | U9: =IF($D9="","",'HK1'!U9+'HK2'!U9) -> 0 | V9: =IF(D9="","",(SUM(S9:T9)-U9)/10) -> 0 | W9: =IF($D9="","",'HK1'!W9+'HK2'!W9) -> 0 | X9: =IF($D9="","",'HK1'!X9+'HK2'!X9) -> 0 | Y9: =IF(D9="","",SUM(W9:X9)/14) -> 0 | Z9: =IF($D9="","",'HK1'!Z9+'HK2'!Z9) -> 0 | AA9: =IF($D9="","",'HK1'!AA9+'HK2'!AA9) -> 0 | AB9: =IF(D9="","",SUM(Z9:AA9)/10) -> 0 | AC9: =IF($D9="","",'HK1'!AC9+'HK2'!AC9) -> 0 | AD9: =IF($D9="","",'HK1'!AD9+'HK2'!AD9) -> 0 | AE9: =IF(D9="","",SUM(AC9:AD9)/20) -> 0 | AF9: =IF($D9="","",'HK1'!AF9+'HK2'!AF9) -> 0 | AG9: =IF($D9="","",'HK1'!AG9+'HK2'!AG9) -> 0 | AH9: =IF(D9="","",ROUND(I9+N9+R9+V9+Y9+AB9+AE9+SUM(AF9:AG9),1)) -> 38.8 | AI9: =IF(AH9="","",ROUND(AH9*10/3,1)) -> 129.3
A10: =IF(D10="","",SUBTOTAL(3,$D$4:$D10)) -> 7 | B10: 01012027 | C10: Khoa CN Cơ khí | D10: Giáp Đức Nhận | E10: =IF($D10="","",'HK1'!E10+'HK2'!E10) -> 0 | F10: =IF($D10="","",'HK1'!F10+'HK2'!F10) -> 0 | G10: =IF($D10="","",'HK1'!G10+'HK2'!G10) -> 0 | H10: =IF($D10="","",'HK1'!H10+'HK2'!H10) -> 0 | I10: =IF(D10="","",(E10+F10*2+G10*3+H10*2)) -> 0 | J10: =IF($D10="","",'HK1'!J10+'HK2'!J10) -> 0 | K10: =IF($D10="","",'HK1'!K10+'HK2'!K10) -> 0 | L10: =IF($D10="","",'HK1'!L10+'HK2'!L10) -> 0 | M10: =IF($D10="","",'HK1'!M10+'HK2'!M10) -> 0 | N10: =IF(D10="","",SUM(J10:M10)) -> 0 | O10: =IF($D10="","",'HK1'!O10+'HK2'!O10) -> 0 | P10: =IF($D10="","",'HK1'!P10+'HK2'!P10) -> 0 | Q10: =IF($D10="","",'HK1'!Q10+'HK2'!Q10) -> 0 | R10: =IF(D10="","",(SUM(O10:P10)-Q10)/20) -> 0 | S10: =IF($D10="","",'HK1'!S10+'HK2'!S10) -> 0 | T10: =IF($D10="","",'HK1'!T10+'HK2'!T10) -> 0 | U10: =IF($D10="","",'HK1'!U10+'HK2'!U10) -> 0 | V10: =IF(D10="","",(SUM(S10:T10)-U10)/10) -> 0 | W10: =IF($D10="","",'HK1'!W10+'HK2'!W10) -> 0 | X10: =IF($D10="","",'HK1'!X10+'HK2'!X10) -> 0 | Y10: =IF(D10="","",SUM(W10:X10)/14) -> 0 | Z10: =IF($D10="","",'HK1'!Z10+'HK2'!Z10) -> 0 | AA10: =IF($D10="","",'HK1'!AA10+'HK2'!AA10) -> 0 | AB10: =IF(D10="","",SUM(Z10:AA10)/10) -> 0 | AC10: =IF($D10="","",'HK1'!AC10+'HK2'!AC10) -> 0 | AD10: =IF($D10="","",'HK1'!AD10+'HK2'!AD10) -> 0 | AE10: =IF(D10="","",SUM(AC10:AD10)/20) -> 0 | AF10: =IF($D10="","",'HK1'!AF10+'HK2'!AF10) -> 0 | AG10: =IF($D10="","",'HK1'!AG10+'HK2'!AG10) -> 0 | AH10: =IF(D10="","",ROUND(I10+N10+R10+V10+Y10+AB10+AE10+SUM(AF10:AG10),1)) -> 0 | AI10: =IF(AH10="","",ROUND(AH10*10/3,1)) -> 0
A11: =IF(D11="","",SUBTOTAL(3,$D$4:$D11)) -> 8 | B11: 01012030 | C11: Khoa CN Cơ khí | D11: Hồ Nhật Linh | E11: =IF($D11="","",'HK1'!E11+'HK2'!E11) -> 0 | F11: =IF($D11="","",'HK1'!F11+'HK2'!F11) -> 4 | G11: =IF($D11="","",'HK1'!G11+'HK2'!G11) -> 0 | H11: =IF($D11="","",'HK1'!H11+'HK2'!H11) -> 0 | I11: =IF(D11="","",(E11+F11*2+G11*3+H11*2)) -> 8 | J11: =IF($D11="","",'HK1'!J11+'HK2'!J11) -> 0 | K11: =IF($D11="","",'HK1'!K11+'HK2'!K11) -> 0 | L11: =IF($D11="","",'HK1'!L11+'HK2'!L11) -> 0 | M11: =IF($D11="","",'HK1'!M11+'HK2'!M11) -> 0 | N11: =IF(D11="","",SUM(J11:M11)) -> 0 | O11: =IF($D11="","",'HK1'!O11+'HK2'!O11) -> 24 | P11: =IF($D11="","",'HK1'!P11+'HK2'!P11) -> 24 | Q11: =IF($D11="","",'HK1'!Q11+'HK2'!Q11) -> 26 | R11: =IF(D11="","",(SUM(O11:P11)-Q11)/20) -> 1.1 | S11: =IF($D11="","",'HK1'!S11+'HK2'!S11) -> 0 | T11: =IF($D11="","",'HK1'!T11+'HK2'!T11) -> 0 | U11: =IF($D11="","",'HK1'!U11+'HK2'!U11) -> 0 | V11: =IF(D11="","",(SUM(S11:T11)-U11)/10) -> 0 | W11: =IF($D11="","",'HK1'!W11+'HK2'!W11) -> 0 | X11: =IF($D11="","",'HK1'!X11+'HK2'!X11) -> 0 | Y11: =IF(D11="","",SUM(W11:X11)/14) -> 0 | Z11: =IF($D11="","",'HK1'!Z11+'HK2'!Z11) -> 0 | AA11: =IF($D11="","",'HK1'!AA11+'HK2'!AA11) -> 0 | AB11: =IF(D11="","",SUM(Z11:AA11)/10) -> 0 | AC11: =IF($D11="","",'HK1'!AC11+'HK2'!AC11) -> 0 | AD11: =IF($D11="","",'HK1'!AD11+'HK2'!AD11) -> 0 | AE11: =IF(D11="","",SUM(AC11:AD11)/20) -> 0 | AF11: =IF($D11="","",'HK1'!AF11+'HK2'!AF11) -> 0 | AG11: =IF($D11="","",'HK1'!AG11+'HK2'!AG11) -> 0 | AH11: =IF(D11="","",ROUND(I11+N11+R11+V11+Y11+AB11+AE11+SUM(AF11:AG11),1)) -> 9.1 | AI11: =IF(AH11="","",ROUND(AH11*10/3,1)) -> 30.3
A12: =IF(D12="","",SUBTOTAL(3,$D$4:$D12)) -> 9 | B12: 01012016 | C12: Khoa CN Cơ khí | D12: Lư Thị Yến Vũ | E12: =IF($D12="","",'HK1'!E12+'HK2'!E12) -> 8 | F12: =IF($D12="","",'HK1'!F12+'HK2'!F12) -> 5 | G12: =IF($D12="","",'HK1'!G12+'HK2'!G12) -> 0 | H12: =IF($D12="","",'HK1'!H12+'HK2'!H12) -> 0 | I12: =IF(D12="","",(E12+F12*2+G12*3+H12*2)) -> 18 | J12: =IF($D12="","",'HK1'!J12+'HK2'!J12) -> 3.2 | K12: =IF($D12="","",'HK1'!K12+'HK2'!K12) -> 18 | L12: =IF($D12="","",'HK1'!L12+'HK2'!L12) -> 0 | M12: =IF($D12="","",'HK1'!M12+'HK2'!M12) -> 0 | N12: =IF(D12="","",SUM(J12:M12)) -> 21.2 | O12: =IF($D12="","",'HK1'!O12+'HK2'!O12) -> 209 | P12: =IF($D12="","",'HK1'!P12+'HK2'!P12) -> 187 | Q12: =IF($D12="","",'HK1'!Q12+'HK2'!Q12) -> 247 | R12: =IF(D12="","",(SUM(O12:P12)-Q12)/20) -> 7.45 | S12: =IF($D12="","",'HK1'!S12+'HK2'!S12) -> 199 | T12: =IF($D12="","",'HK1'!T12+'HK2'!T12) -> 285 | U12: =IF($D12="","",'HK1'!U12+'HK2'!U12) -> 199 | V12: =IF(D12="","",(SUM(S12:T12)-U12)/10) -> 28.5 | W12: =IF($D12="","",'HK1'!W12+'HK2'!W12) -> 0 | X12: =IF($D12="","",'HK1'!X12+'HK2'!X12) -> 0 | Y12: =IF(D12="","",SUM(W12:X12)/14) -> 0 | Z12: =IF($D12="","",'HK1'!Z12+'HK2'!Z12) -> 0 | AA12: =IF($D12="","",'HK1'!AA12+'HK2'!AA12) -> 0 | AB12: =IF(D12="","",SUM(Z12:AA12)/10) -> 0 | AC12: =IF($D12="","",'HK1'!AC12+'HK2'!AC12) -> 0 | AD12: =IF($D12="","",'HK1'!AD12+'HK2'!AD12) -> 0 | AE12: =IF(D12="","",SUM(AC12:AD12)/20) -> 0 | AF12: =IF($D12="","",'HK1'!AF12+'HK2'!AF12) -> 0 | AG12: =IF($D12="","",'HK1'!AG12+'HK2'!AG12) -> 1.6 | AH12: =IF(D12="","",ROUND(I12+N12+R12+V12+Y12+AB12+AE12+SUM(AF12:AG12),1)) -> 76.8 | AI12: =IF(AH12="","",ROUND(AH12*10/3,1)) -> 256
A13: =IF(D13="","",SUBTOTAL(3,$D$4:$D13)) -> 10 | B13: 01012024 | C13: Khoa CN Cơ khí | D13: Nguyễn Chí Ngãi | E13: =IF($D13="","",'HK1'!E13+'HK2'!E13) -> 0 | F13: =IF($D13="","",'HK1'!F13+'HK2'!F13) -> 0 | G13: =IF($D13="","",'HK1'!G13+'HK2'!G13) -> 0 | H13: =IF($D13="","",'HK1'!H13+'HK2'!H13) -> 0 | I13: =IF(D13="","",(E13+F13*2+G13*3+H13*2)) -> 0 | J13: =IF($D13="","",'HK1'!J13+'HK2'!J13) -> 0 | K13: =IF($D13="","",'HK1'!K13+'HK2'!K13) -> 0 | L13: =IF($D13="","",'HK1'!L13+'HK2'!L13) -> 0 | M13: =IF($D13="","",'HK1'!M13+'HK2'!M13) -> 0 | N13: =IF(D13="","",SUM(J13:M13)) -> 0 | O13: =IF($D13="","",'HK1'!O13+'HK2'!O13) -> 29 | P13: =IF($D13="","",'HK1'!P13+'HK2'!P13) -> 0 | Q13: =IF($D13="","",'HK1'!Q13+'HK2'!Q13) -> 53 | R13: =IF(D13="","",(SUM(O13:P13)-Q13)/20) -> -1.2 | S13: =IF($D13="","",'HK1'!S13+'HK2'!S13) -> 0 | T13: =IF($D13="","",'HK1'!T13+'HK2'!T13) -> 0 | U13: =IF($D13="","",'HK1'!U13+'HK2'!U13) -> 0 | V13: =IF(D13="","",(SUM(S13:T13)-U13)/10) -> 0 | W13: =IF($D13="","",'HK1'!W13+'HK2'!W13) -> 0 | X13: =IF($D13="","",'HK1'!X13+'HK2'!X13) -> 0 | Y13: =IF(D13="","",SUM(W13:X13)/14) -> 0 | Z13: =IF($D13="","",'HK1'!Z13+'HK2'!Z13) -> 0 | AA13: =IF($D13="","",'HK1'!AA13+'HK2'!AA13) -> 0 | AB13: =IF(D13="","",SUM(Z13:AA13)/10) -> 0 | AC13: =IF($D13="","",'HK1'!AC13+'HK2'!AC13) -> 0 | AD13: =IF($D13="","",'HK1'!AD13+'HK2'!AD13) -> 0 | AE13: =IF(D13="","",SUM(AC13:AD13)/20) -> 0 | AF13: =IF($D13="","",'HK1'!AF13+'HK2'!AF13) -> 0 | AG13: =IF($D13="","",'HK1'!AG13+'HK2'!AG13) -> 0 | AH13: =IF(D13="","",ROUND(I13+N13+R13+V13+Y13+AB13+AE13+SUM(AF13:AG13),1)) -> -1.2 | AI13: =IF(AH13="","",ROUND(AH13*10/3,1)) -> -4
A14: =IF(D14="","",SUBTOTAL(3,$D$4:$D14)) -> 11 | B14: 01012022 | C14: Khoa CN Cơ khí | D14: Nguyễn Duy Hải | E14: =IF($D14="","",'HK1'!E14+'HK2'!E14) -> 0 | F14: =IF($D14="","",'HK1'!F14+'HK2'!F14) -> 0 | G14: =IF($D14="","",'HK1'!G14+'HK2'!G14) -> 0 | H14: =IF($D14="","",'HK1'!H14+'HK2'!H14) -> 0 | I14: =IF(D14="","",(E14+F14*2+G14*3+H14*2)) -> 0 | J14: =IF($D14="","",'HK1'!J14+'HK2'!J14) -> 12 | K14: =IF($D14="","",'HK1'!K14+'HK2'!K14) -> 4 | L14: =IF($D14="","",'HK1'!L14+'HK2'!L14) -> 0 | M14: =IF($D14="","",'HK1'!M14+'HK2'!M14) -> 0 | N14: =IF(D14="","",SUM(J14:M14)) -> 16 | O14: =IF($D14="","",'HK1'!O14+'HK2'!O14) -> 90 | P14: =IF($D14="","",'HK1'!P14+'HK2'!P14) -> 119 | Q14: =IF($D14="","",'HK1'!Q14+'HK2'!Q14) -> 159 | R14: =IF(D14="","",(SUM(O14:P14)-Q14)/20) -> 2.5 | S14: =IF($D14="","",'HK1'!S14+'HK2'!S14) -> 0 | T14: =IF($D14="","",'HK1'!T14+'HK2'!T14) -> 65 | U14: =IF($D14="","",'HK1'!U14+'HK2'!U14) -> 0 | V14: =IF(D14="","",(SUM(S14:T14)-U14)/10) -> 6.5 | W14: =IF($D14="","",'HK1'!W14+'HK2'!W14) -> 0 | X14: =IF($D14="","",'HK1'!X14+'HK2'!X14) -> 0 | Y14: =IF(D14="","",SUM(W14:X14)/14) -> 0 | Z14: =IF($D14="","",'HK1'!Z14+'HK2'!Z14) -> 0 | AA14: =IF($D14="","",'HK1'!AA14+'HK2'!AA14) -> 0 | AB14: =IF(D14="","",SUM(Z14:AA14)/10) -> 0 | AC14: =IF($D14="","",'HK1'!AC14+'HK2'!AC14) -> 0 | AD14: =IF($D14="","",'HK1'!AD14+'HK2'!AD14) -> 0 | AE14: =IF(D14="","",SUM(AC14:AD14)/20) -> 0 | AF14: =IF($D14="","",'HK1'!AF14+'HK2'!AF14) -> 2.4 | AG14: =IF($D14="","",'HK1'!AG14+'HK2'!AG14) -> 8.8 | AH14: =IF(D14="","",ROUND(I14+N14+R14+V14+Y14+AB14+AE14+SUM(AF14:AG14),1)) -> 36.2 | AI14: =IF(AH14="","",ROUND(AH14*10/3,1)) -> 120.7
A15: =IF(D15="","",SUBTOTAL(3,$D$4:$D15)) -> 12 | B15: 01009004 | C15: Khoa CN Cơ khí | D15: Nguyễn Hoài Nam | E15: =IF($D15="","",'HK1'!E15+'HK2'!E15) -> 0 | F15: =IF($D15="","",'HK1'!F15+'HK2'!F15) -> 0 | G15: =IF($D15="","",'HK1'!G15+'HK2'!G15) -> 0 | H15: =IF($D15="","",'HK1'!H15+'HK2'!H15) -> 0 | I15: =IF(D15="","",(E15+F15*2+G15*3+H15*2)) -> 0 | J15: =IF($D15="","",'HK1'!J15+'HK2'!J15) -> 0 | K15: =IF($D15="","",'HK1'!K15+'HK2'!K15) -> 0 | L15: =IF($D15="","",'HK1'!L15+'HK2'!L15) -> 0 | M15: =IF($D15="","",'HK1'!M15+'HK2'!M15) -> 0 | N15: =IF(D15="","",SUM(J15:M15)) -> 0 | O15: =IF($D15="","",'HK1'!O15+'HK2'!O15) -> 0 | P15: =IF($D15="","",'HK1'!P15+'HK2'!P15) -> 0 | Q15: =IF($D15="","",'HK1'!Q15+'HK2'!Q15) -> 0 | R15: =IF(D15="","",(SUM(O15:P15)-Q15)/20) -> 0 | S15: =IF($D15="","",'HK1'!S15+'HK2'!S15) -> 0 | T15: =IF($D15="","",'HK1'!T15+'HK2'!T15) -> 0 | U15: =IF($D15="","",'HK1'!U15+'HK2'!U15) -> 0 | V15: =IF(D15="","",(SUM(S15:T15)-U15)/10) -> 0 | W15: =IF($D15="","",'HK1'!W15+'HK2'!W15) -> 0 | X15: =IF($D15="","",'HK1'!X15+'HK2'!X15) -> 0 | Y15: =IF(D15="","",SUM(W15:X15)/14) -> 0 | Z15: =IF($D15="","",'HK1'!Z15+'HK2'!Z15) -> 0 | AA15: =IF($D15="","",'HK1'!AA15+'HK2'!AA15) -> 0 | AB15: =IF(D15="","",SUM(Z15:AA15)/10) -> 0 | AC15: =IF($D15="","",'HK1'!AC15+'HK2'!AC15) -> 0 | AD15: =IF($D15="","",'HK1'!AD15+'HK2'!AD15) -> 0 | AE15: =IF(D15="","",SUM(AC15:AD15)/20) -> 0 | AF15: =IF($D15="","",'HK1'!AF15+'HK2'!AF15) -> 0 | AG15: =IF($D15="","",'HK1'!AG15+'HK2'!AG15) -> 4.8 | AH15: =IF(D15="","",ROUND(I15+N15+R15+V15+Y15+AB15+AE15+SUM(AF15:AG15),1)) -> 4.8 | AI15: =IF(AH15="","",ROUND(AH15*10/3,1)) -> 16
... A39: =IF(D39="","",SUBTOTAL(3,$D$4:$D39)) -> 36 | B39: 01009001 | C39: Tổ TT-PC | D39: Nguyễn Thanh Lâm | E39: =IF($D39="","",'HK1'!E39+'HK2'!E39) -> 0 | F39: =IF($D39="","",'HK1'!F39+'HK2'!F39) -> 0 | G39: =IF($D39="","",'HK1'!G39+'HK2'!G39) -> 0 | H39: =IF($D39="","",'HK1'!H39+'HK2'!H39) -> 0 | I39: =IF(D39="","",(E39+F39*2+G39*3+H39*2)) -> 0 | J39: =IF($D39="","",'HK1'!J39+'HK2'!J39) -> 0 | K39: =IF($D39="","",'HK1'!K39+'HK2'!K39) -> 0 | L39: =IF($D39="","",'HK1'!L39+'HK2'!L39) -> 0 | M39: =IF($D39="","",'HK1'!M39+'HK2'!M39) -> 0 | N39: =IF(D39="","",SUM(J39:M39)) -> 0 | O39: =IF($D39="","",'HK1'!O39+'HK2'!O39) -> 0 | P39: =IF($D39="","",'HK1'!P39+'HK2'!P39) -> 0 | Q39: =IF($D39="","",'HK1'!Q39+'HK2'!Q39) -> 0 | R39: =IF(D39="","",(SUM(O39:P39)-Q39)/20) -> 0 | S39: =IF($D39="","",'HK1'!S39+'HK2'!S39) -> 84 | T39: =IF($D39="","",'HK1'!T39+'HK2'!T39) -> 0 | U39: =IF($D39="","",'HK1'!U39+'HK2'!U39) -> 84 | V39: =IF(D39="","",(SUM(S39:T39)-U39)/10) -> 0 | W39: =IF($D39="","",'HK1'!W39+'HK2'!W39) -> 0 | X39: =IF($D39="","",'HK1'!X39+'HK2'!X39) -> 0 | Y39: =IF(D39="","",SUM(W39:X39)/14) -> 0 | Z39: =IF($D39="","",'HK1'!Z39+'HK2'!Z39) -> 0 | AA39: =IF($D39="","",'HK1'!AA39+'HK2'!AA39) -> 0 | AB39: =IF(D39="","",SUM(Z39:AA39)/10) -> 0 | AC39: =IF($D39="","",'HK1'!AC39+'HK2'!AC39) -> 0 | AD39: =IF($D39="","",'HK1'!AD39+'HK2'!AD39) -> 0 | AE39: =IF(D39="","",SUM(AC39:AD39)/20) -> 0 | AF39: =IF($D39="","",'HK1'!AF39+'HK2'!AF39) -> 0 | AG39: =IF($D39="","",'HK1'!AG39+'HK2'!AG39) -> 0 | AH39: =IF(D39="","",ROUND(I39+N39+R39+V39+Y39+AB39+AE39+SUM(AF39:AG39),1)) -> 0 | AI39: =IF(AH39="","",ROUND(AH39*10/3,1)) -> 0
A40: =IF(D40="","",SUBTOTAL(3,$D$4:$D40)) | AH40: =IF(D40="","",ROUND(I40+N40+R40+V40+Y40+AB40+AE40+SUM(AF40:AG40),1)) | AI40: =IF(AH40="","",ROUND(AH40*10/3,1))
E41: =SUBTOTAL(9,E2:E40) -> 145 | F41: =SUBTOTAL(9,F2:F40) -> 25 | G41: =SUBTOTAL(9,G2:G40) -> 0 | H41: =SUBTOTAL(9,H2:H40) -> 0 | I41: =SUBTOTAL(9,I2:I40) -> 195 | J41: =SUBTOTAL(9,J2:J40) -> 274 | K41: =SUBTOTAL(9,K2:K40) -> 170.8 | L41: =SUBTOTAL(9,L2:L40) -> 0 | ... AH41: =SUBTOTAL(9,AH2:AH40) -> 1197.8
